BEGIN:VCALENDAR
VERSION:2.0
PRODID:-//Bunker Hill / Coeur D&#039;Alene Basin Superfund Site - ECPv6.15.20//NONSGML v1.0//EN
CALSCALE:GREGORIAN
METHOD:PUBLISH
X-WR-CALNAME:Bunker Hill / Coeur D&#039;Alene Basin Superfund Site
X-ORIGINAL-URL:https://cdabasin.idaho.gov
X-WR-CALDESC:Events for Bunker Hill / Coeur D&#039;Alene Basin Superfund Site
REFRESH-INTERVAL;VALUE=DURATION:PT1H
X-Robots-Tag:noindex
X-PUBLISHED-TTL:PT1H
BEGIN:VTIMEZONE
TZID:America/Los_Angeles
BEGIN:DAYLIGHT
TZOFFSETFROM:-0800
TZOFFSETTO:-0700
TZNAME:PDT
DTSTART:20240310T100000
END:DAYLIGHT
BEGIN:STANDARD
TZOFFSETFROM:-0700
TZOFFSETTO:-0800
TZNAME:PST
DTSTART:20241103T090000
END:STANDARD
BEGIN:DAYLIGHT
TZOFFSETFROM:-0800
TZOFFSETTO:-0700
TZNAME:PDT
DTSTART:20250309T100000
END:DAYLIGHT
BEGIN:STANDARD
TZOFFSETFROM:-0700
TZOFFSETTO:-0800
TZNAME:PST
DTSTART:20251102T090000
END:STANDARD
BEGIN:DAYLIGHT
TZOFFSETFROM:-0800
TZOFFSETTO:-0700
TZNAME:PDT
DTSTART:20260308T100000
END:DAYLIGHT
BEGIN:STANDARD
TZOFFSETFROM:-0700
TZOFFSETTO:-0800
TZNAME:PST
DTSTART:20261101T090000
END:STANDARD
BEGIN:DAYLIGHT
TZOFFSETFROM:-0800
TZOFFSETTO:-0700
TZNAME:PDT
DTSTART:20270314T100000
END:DAYLIGHT
BEGIN:STANDARD
TZOFFSETFROM:-0700
TZOFFSETTO:-0800
TZNAME:PST
DTSTART:20271107T090000
END:STANDARD
END:VTIMEZONE
BEGIN:VTIMEZONE
TZID:America/Boise
BEGIN:DAYLIGHT
TZOFFSETFROM:-0700
TZOFFSETTO:-0600
TZNAME:MDT
DTSTART:20240310T090000
END:DAYLIGHT
BEGIN:STANDARD
TZOFFSETFROM:-0600
TZOFFSETTO:-0700
TZNAME:MST
DTSTART:20241103T080000
END:STANDARD
BEGIN:DAYLIGHT
TZOFFSETFROM:-0700
TZOFFSETTO:-0600
TZNAME:MDT
DTSTART:20250309T090000
END:DAYLIGHT
BEGIN:STANDARD
TZOFFSETFROM:-0600
TZOFFSETTO:-0700
TZNAME:MST
DTSTART:20251102T080000
END:STANDARD
BEGIN:DAYLIGHT
TZOFFSETFROM:-0700
TZOFFSETTO:-0600
TZNAME:MDT
DTSTART:20260308T090000
END:DAYLIGHT
BEGIN:STANDARD
TZOFFSETFROM:-0600
TZOFFSETTO:-0700
TZNAME:MST
DTSTART:20261101T080000
END:STANDARD
BEGIN:DAYLIGHT
TZOFFSETFROM:-0700
TZOFFSETTO:-0600
TZNAME:MDT
DTSTART:20270314T090000
END:DAYLIGHT
BEGIN:STANDARD
TZOFFSETFROM:-0600
TZOFFSETTO:-0700
TZNAME:MST
DTSTART:20271107T080000
END:STANDARD
END:VTIMEZONE
BEGIN:VEVENT
DTSTART;TZID=America/Los_Angeles:20260318T130000
DTEND;TZID=America/Los_Angeles:20260318T140000
DTSTAMP:20260423T193418
CREATED:20250826T193402Z
LAST-MODIFIED:20250826T193402Z
UID:4223-1773838800-1773842400@cdabasin.idaho.gov
SUMMARY:Shoshone Benewah One Call Meeting
DESCRIPTION:
URL:https://cdabasin.idaho.gov/event/shoshone-benewah-one-call-meeting-7/
LOCATION:City Limits Pub\, 108 Nine Mile Rd\, Wallace\, ID\, 83873\, United States
ORGANIZER;CN="Haley Gosline":MAILTO:hgosline@southforksd.com
END:VEVENT
BEGIN:VEVENT
DTSTART;TZID=America/Los_Angeles:20260311T093000
DTEND;TZID=America/Los_Angeles:20260311T153000
DTSTAMP:20260423T193418
CREATED:20251209T172401Z
LAST-MODIFIED:20260225T204647Z
UID:4443-1773221400-1773243000@cdabasin.idaho.gov
SUMMARY:BEIPC Quarterly Meeting
DESCRIPTION:
URL:https://cdabasin.idaho.gov/event/beipc-quarterly-meeting-2/
ORGANIZER;CN="Sharon Bosley":MAILTO:sharon.bosley@deq.idaho.gov
END:VEVENT
BEGIN:VEVENT
DTSTART;TZID=America/Los_Angeles:20260218T080000
DTEND;TZID=America/Los_Angeles:20260220T170000
DTSTAMP:20260423T193418
CREATED:20250908T194537Z
LAST-MODIFIED:20250908T194537Z
UID:4249-1771401600-1771606800@cdabasin.idaho.gov
SUMMARY:North Idaho College Safety Fest
DESCRIPTION:
URL:https://cdabasin.idaho.gov/event/north-idaho-college-safety-fest/
LOCATION:NIC Workforce Training Center\, 525 South Clearwater Loop\, Post Falls\, ID\, 83854\, United States
END:VEVENT
BEGIN:VEVENT
DTSTART;TZID=America/Los_Angeles:20260121T130000
DTEND;TZID=America/Los_Angeles:20260121T140000
DTSTAMP:20260423T193418
CREATED:20250826T193105Z
LAST-MODIFIED:20250826T193105Z
UID:4216-1769000400-1769004000@cdabasin.idaho.gov
SUMMARY:Shoshone Benewah One Call Meeting
DESCRIPTION:
URL:https://cdabasin.idaho.gov/event/shoshone-benewah-one-call-meeting-4/
LOCATION:South Fork Sewer District\, 1020 Polaris Ave\, Osburn\, ID\, 83849\, United States
ORGANIZER;CN="Haley Gosline":MAILTO:hgosline@southforksd.com
END:VEVENT
BEGIN:VEVENT
DTSTART;VALUE=DATE:20260101
DTEND;VALUE=DATE:20260102
DTSTAMP:20260423T193418
CREATED:20250107T221623Z
LAST-MODIFIED:20250107T222120Z
UID:3288-1767225600-1767311999@cdabasin.idaho.gov
SUMMARY:New Year's Day
DESCRIPTION:
URL:https://cdabasin.idaho.gov/event/new-years-day-2/
LOCATION:Government Holiday\, United States
END:VEVENT
BEGIN:VEVENT
DTSTART;TZID=America/Los_Angeles:20251229T080000
DTEND;TZID=America/Los_Angeles:20251229T100000
DTSTAMP:20260423T193418
CREATED:20250109T215810Z
LAST-MODIFIED:20250109T215810Z
UID:3532-1766995200-1767002400@cdabasin.idaho.gov
SUMMARY:ICP Contractor Licensing Course
DESCRIPTION:
URL:https://cdabasin.idaho.gov/event/icp-contractor-licensing-course-93/
LOCATION:Panhandle Health District\, Kellogg Office\, 35 Wildcat Way\, Kellogg\, ID\, 83837\, United States
END:VEVENT
BEGIN:VEVENT
DTSTART;VALUE=DATE:20251225
DTEND;VALUE=DATE:20251226
DTSTAMP:20260423T193418
CREATED:20250107T221525Z
LAST-MODIFIED:20250107T222721Z
UID:3286-1766620800-1766707199@cdabasin.idaho.gov
SUMMARY:Christmas Day
DESCRIPTION:
URL:https://cdabasin.idaho.gov/event/christmas-day/
END:VEVENT
BEGIN:VEVENT
DTSTART;TZID=America/Los_Angeles:20251222T080000
DTEND;TZID=America/Los_Angeles:20251222T100000
DTSTAMP:20260423T193418
CREATED:20250109T215708Z
LAST-MODIFIED:20250109T215708Z
UID:3530-1766390400-1766397600@cdabasin.idaho.gov
SUMMARY:ICP Contractor Licensing Course
DESCRIPTION:
URL:https://cdabasin.idaho.gov/event/icp-contractor-licensing-course-92/
LOCATION:Panhandle Health District\, Kellogg Office\, 35 Wildcat Way\, Kellogg\, ID\, 83837\, United States
END:VEVENT
BEGIN:VEVENT
DTSTART;TZID=America/Los_Angeles:20251218T130000
DTEND;TZID=America/Los_Angeles:20251218T150000
DTSTAMP:20260423T193418
CREATED:20250109T215558Z
LAST-MODIFIED:20250109T215558Z
UID:3528-1766062800-1766070000@cdabasin.idaho.gov
SUMMARY:ICP Contractor Licensing Course
DESCRIPTION:
URL:https://cdabasin.idaho.gov/event/icp-contractor-licensing-course-91/
LOCATION:Panhandle Health District\, Kellogg Office\, 35 Wildcat Way\, Kellogg\, ID\, 83837\, United States
END:VEVENT
BEGIN:VEVENT
DTSTART;TZID=America/Los_Angeles:20251215T080000
DTEND;TZID=America/Los_Angeles:20251215T100000
DTSTAMP:20260423T193418
CREATED:20250109T215454Z
LAST-MODIFIED:20250109T215454Z
UID:3526-1765785600-1765792800@cdabasin.idaho.gov
SUMMARY:ICP Contractor Licensing Course
DESCRIPTION:
URL:https://cdabasin.idaho.gov/event/icp-contractor-licensing-course-90/
LOCATION:Panhandle Health District\, Kellogg Office\, 35 Wildcat Way\, Kellogg\, ID\, 83837\, United States
END:VEVENT
BEGIN:VEVENT
DTSTART;TZID=America/Los_Angeles:20251211T130000
DTEND;TZID=America/Los_Angeles:20251211T150000
DTSTAMP:20260423T193418
CREATED:20250109T215355Z
LAST-MODIFIED:20250109T215355Z
UID:3524-1765458000-1765465200@cdabasin.idaho.gov
SUMMARY:ICP Contractor Licensing Course
DESCRIPTION:
URL:https://cdabasin.idaho.gov/event/icp-contractor-licensing-course-89/
LOCATION:Panhandle Health District\, Kellogg Office\, 35 Wildcat Way\, Kellogg\, ID\, 83837\, United States
END:VEVENT
BEGIN:VEVENT
DTSTART;TZID=America/Los_Angeles:20251208T080000
DTEND;TZID=America/Los_Angeles:20251208T100000
DTSTAMP:20260423T193418
CREATED:20250109T215259Z
LAST-MODIFIED:20250109T215259Z
UID:3522-1765180800-1765188000@cdabasin.idaho.gov
SUMMARY:ICP Contractor Licensing Course
DESCRIPTION:
URL:https://cdabasin.idaho.gov/event/icp-contractor-licensing-course-88/
LOCATION:Panhandle Health District\, Kellogg Office\, 35 Wildcat Way\, Kellogg\, ID\, 83837\, United States
END:VEVENT
BEGIN:VEVENT
DTSTART;TZID=America/Los_Angeles:20251204T130000
DTEND;TZID=America/Los_Angeles:20251204T150000
DTSTAMP:20260423T193418
CREATED:20250109T215159Z
LAST-MODIFIED:20250109T215159Z
UID:3520-1764853200-1764860400@cdabasin.idaho.gov
SUMMARY:ICP Contractor Licensing Course
DESCRIPTION:
URL:https://cdabasin.idaho.gov/event/icp-contractor-licensing-course-87/
LOCATION:Panhandle Health District\, Kellogg Office\, 35 Wildcat Way\, Kellogg\, ID\, 83837\, United States
END:VEVENT
BEGIN:VEVENT
DTSTART;TZID=America/Los_Angeles:20251201T080000
DTEND;TZID=America/Los_Angeles:20251201T100000
DTSTAMP:20260423T193418
CREATED:20250109T215103Z
LAST-MODIFIED:20250109T215103Z
UID:3518-1764576000-1764583200@cdabasin.idaho.gov
SUMMARY:ICP Contractor Licensing Course
DESCRIPTION:
URL:https://cdabasin.idaho.gov/event/icp-contractor-licensing-course-86/
LOCATION:Panhandle Health District\, Kellogg Office\, 35 Wildcat Way\, Kellogg\, ID\, 83837\, United States
END:VEVENT
BEGIN:VEVENT
DTSTART;VALUE=DATE:20251127
DTEND;VALUE=DATE:20251128
DTSTAMP:20260423T193418
CREATED:20250107T221437Z
LAST-MODIFIED:20250107T222801Z
UID:3284-1764201600-1764287999@cdabasin.idaho.gov
SUMMARY:Thanksgiving Day
DESCRIPTION:
URL:https://cdabasin.idaho.gov/event/thanksgiving-day/
END:VEVENT
BEGIN:VEVENT
DTSTART;TZID=America/Los_Angeles:20251124T080000
DTEND;TZID=America/Los_Angeles:20251124T100000
DTSTAMP:20260423T193418
CREATED:20250109T214936Z
LAST-MODIFIED:20250109T214936Z
UID:3516-1763971200-1763978400@cdabasin.idaho.gov
SUMMARY:ICP Contractor Licensing Course
DESCRIPTION:
URL:https://cdabasin.idaho.gov/event/icp-contractor-licensing-course-85/
LOCATION:Panhandle Health District\, Kellogg Office\, 35 Wildcat Way\, Kellogg\, ID\, 83837\, United States
END:VEVENT
BEGIN:VEVENT
DTSTART;TZID=America/Los_Angeles:20251120T130000
DTEND;TZID=America/Los_Angeles:20251120T150000
DTSTAMP:20260423T193418
CREATED:20250109T214831Z
LAST-MODIFIED:20250109T214831Z
UID:3514-1763643600-1763650800@cdabasin.idaho.gov
SUMMARY:ICP Contractor Licensing Course
DESCRIPTION:
URL:https://cdabasin.idaho.gov/event/icp-contractor-licensing-course-84/
LOCATION:Panhandle Health District\, Kellogg Office\, 35 Wildcat Way\, Kellogg\, ID\, 83837\, United States
END:VEVENT
BEGIN:VEVENT
DTSTART;TZID=America/Los_Angeles:20251119T130000
DTEND;TZID=America/Los_Angeles:20251119T140000
DTSTAMP:20260423T193418
CREATED:20250826T193304Z
LAST-MODIFIED:20250826T193304Z
UID:4220-1763557200-1763560800@cdabasin.idaho.gov
SUMMARY:Shoshone Benewah One Call Meeting
DESCRIPTION:
URL:https://cdabasin.idaho.gov/event/shoshone-benewah-one-call-meeting-6/
LOCATION:City Limits Pub\, 108 Nine Mile Rd\, Wallace\, ID\, 83873\, United States
ORGANIZER;CN="Haley Gosline":MAILTO:hgosline@southforksd.com
END:VEVENT
BEGIN:VEVENT
DTSTART;TZID=America/Los_Angeles:20251117T080000
DTEND;TZID=America/Los_Angeles:20251117T100000
DTSTAMP:20260423T193418
CREATED:20250109T214730Z
LAST-MODIFIED:20250109T214730Z
UID:3512-1763366400-1763373600@cdabasin.idaho.gov
SUMMARY:ICP Contractor Licensing Course
DESCRIPTION:
URL:https://cdabasin.idaho.gov/event/icp-contractor-licensing-course-83/
LOCATION:Panhandle Health District\, Kellogg Office\, 35 Wildcat Way\, Kellogg\, ID\, 83837\, United States
END:VEVENT
BEGIN:VEVENT
DTSTART;TZID=America/Los_Angeles:20251113T130000
DTEND;TZID=America/Los_Angeles:20251113T150000
DTSTAMP:20260423T193418
CREATED:20250109T214559Z
LAST-MODIFIED:20250109T214559Z
UID:3510-1763038800-1763046000@cdabasin.idaho.gov
SUMMARY:ICP Contractor Licensing Course
DESCRIPTION:
URL:https://cdabasin.idaho.gov/event/icp-contractor-licensing-course-82/
LOCATION:Panhandle Health District\, Kellogg Office\, 35 Wildcat Way\, Kellogg\, ID\, 83837\, United States
END:VEVENT
BEGIN:VEVENT
DTSTART;VALUE=DATE:20251111
DTEND;VALUE=DATE:20251112
DTSTAMP:20260423T193418
CREATED:20250107T221354Z
LAST-MODIFIED:20250107T222902Z
UID:3282-1762819200-1762905599@cdabasin.idaho.gov
SUMMARY:Veterans Day
DESCRIPTION:
URL:https://cdabasin.idaho.gov/event/veterans-day/
END:VEVENT
BEGIN:VEVENT
DTSTART;TZID=America/Los_Angeles:20251110T080000
DTEND;TZID=America/Los_Angeles:20251110T100000
DTSTAMP:20260423T193418
CREATED:20250109T214502Z
LAST-MODIFIED:20250109T214502Z
UID:3508-1762761600-1762768800@cdabasin.idaho.gov
SUMMARY:ICP Contractor Licensing Course
DESCRIPTION:
URL:https://cdabasin.idaho.gov/event/icp-contractor-licensing-course-81/
LOCATION:Panhandle Health District\, Kellogg Office\, 35 Wildcat Way\, Kellogg\, ID\, 83837\, United States
END:VEVENT
BEGIN:VEVENT
DTSTART;TZID=America/Los_Angeles:20251106T130000
DTEND;TZID=America/Los_Angeles:20251106T150000
DTSTAMP:20260423T193418
CREATED:20250109T214400Z
LAST-MODIFIED:20250109T214400Z
UID:3506-1762434000-1762441200@cdabasin.idaho.gov
SUMMARY:ICP Contractor Licensing Course
DESCRIPTION:
URL:https://cdabasin.idaho.gov/event/icp-contractor-licensing-course-80/
LOCATION:Panhandle Health District\, Kellogg Office\, 35 Wildcat Way\, Kellogg\, ID\, 83837\, United States
END:VEVENT
BEGIN:VEVENT
DTSTART;VALUE=DATE:20251105
DTEND;VALUE=DATE:20251106
DTSTAMP:20260423T193418
CREATED:20250108T205648Z
LAST-MODIFIED:20250108T205648Z
UID:3333-1762300800-1762387199@cdabasin.idaho.gov
SUMMARY:BEIPC Quarterly Meeting
DESCRIPTION:
URL:https://cdabasin.idaho.gov/event/beipc-quarterly-meeting-3/
LOCATION:TBD
ORGANIZER;CN="Sharon Bosley":MAILTO:sharon.bosley@deq.idaho.gov
END:VEVENT
BEGIN:VEVENT
DTSTART;TZID=America/Los_Angeles:20251103T080000
DTEND;TZID=America/Los_Angeles:20251103T100000
DTSTAMP:20260423T193418
CREATED:20250109T214302Z
LAST-MODIFIED:20250109T214302Z
UID:3504-1762156800-1762164000@cdabasin.idaho.gov
SUMMARY:ICP Contractor Licensing Course
DESCRIPTION:
URL:https://cdabasin.idaho.gov/event/icp-contractor-licensing-course-79/
LOCATION:Panhandle Health District\, Kellogg Office\, 35 Wildcat Way\, Kellogg\, ID\, 83837\, United States
END:VEVENT
BEGIN:VEVENT
DTSTART;TZID=America/Los_Angeles:20251030T130000
DTEND;TZID=America/Los_Angeles:20251030T150000
DTSTAMP:20260423T193418
CREATED:20250109T214143Z
LAST-MODIFIED:20250109T214143Z
UID:3502-1761829200-1761836400@cdabasin.idaho.gov
SUMMARY:ICP Contractor Licensing Course
DESCRIPTION:
URL:https://cdabasin.idaho.gov/event/icp-contractor-licensing-course-78/
LOCATION:Panhandle Health District\, Kellogg Office\, 35 Wildcat Way\, Kellogg\, ID\, 83837\, United States
END:VEVENT
BEGIN:VEVENT
DTSTART;TZID=America/Los_Angeles:20251027T080000
DTEND;TZID=America/Los_Angeles:20251027T100000
DTSTAMP:20260423T193418
CREATED:20250109T214044Z
LAST-MODIFIED:20250109T214044Z
UID:3500-1761552000-1761559200@cdabasin.idaho.gov
SUMMARY:ICP Contractor Licensing Course
DESCRIPTION:
URL:https://cdabasin.idaho.gov/event/icp-contractor-licensing-course-77/
LOCATION:Panhandle Health District\, Kellogg Office\, 35 Wildcat Way\, Kellogg\, ID\, 83837\, United States
END:VEVENT
BEGIN:VEVENT
DTSTART;TZID=America/Los_Angeles:20251023T130000
DTEND;TZID=America/Los_Angeles:20251023T150000
DTSTAMP:20260423T193418
CREATED:20250109T213947Z
LAST-MODIFIED:20250109T213947Z
UID:3498-1761224400-1761231600@cdabasin.idaho.gov
SUMMARY:ICP Contractor Licensing Course
DESCRIPTION:
URL:https://cdabasin.idaho.gov/event/icp-contractor-licensing-course-76/
LOCATION:Panhandle Health District\, Kellogg Office\, 35 Wildcat Way\, Kellogg\, ID\, 83837\, United States
END:VEVENT
BEGIN:VEVENT
DTSTART;TZID=America/Los_Angeles:20251020T080000
DTEND;TZID=America/Los_Angeles:20251020T100000
DTSTAMP:20260423T193418
CREATED:20250109T213855Z
LAST-MODIFIED:20250109T213855Z
UID:3496-1760947200-1760954400@cdabasin.idaho.gov
SUMMARY:ICP Contractor Licensing Course
DESCRIPTION:
URL:https://cdabasin.idaho.gov/event/icp-contractor-licensing-course-75/
LOCATION:Panhandle Health District\, Kellogg Office\, 35 Wildcat Way\, Kellogg\, ID\, 83837\, United States
END:VEVENT
BEGIN:VEVENT
DTSTART;TZID=America/Los_Angeles:20251016T130000
DTEND;TZID=America/Los_Angeles:20251016T150000
DTSTAMP:20260423T193418
CREATED:20250109T213752Z
LAST-MODIFIED:20250109T213752Z
UID:3494-1760619600-1760626800@cdabasin.idaho.gov
SUMMARY:ICP Contractor Licensing Course
DESCRIPTION:
URL:https://cdabasin.idaho.gov/event/icp-contractor-licensing-course-74/
LOCATION:Panhandle Health District\, Kellogg Office\, 35 Wildcat Way\, Kellogg\, ID\, 83837\, United States
END:VEVENT
END:VCALENDAR