BEGIN:VCALENDAR
VERSION:2.0
PRODID:-//Bunker Hill / Coeur D&#039;Alene Basin Superfund Site - ECPv6.15.20//NONSGML v1.0//EN
CALSCALE:GREGORIAN
METHOD:PUBLISH
X-WR-CALNAME:Bunker Hill / Coeur D&#039;Alene Basin Superfund Site
X-ORIGINAL-URL:https://cdabasin.idaho.gov
X-WR-CALDESC:Events for Bunker Hill / Coeur D&#039;Alene Basin Superfund Site
REFRESH-INTERVAL;VALUE=DURATION:PT1H
X-Robots-Tag:noindex
X-PUBLISHED-TTL:PT1H
BEGIN:VTIMEZONE
TZID:America/Los_Angeles
BEGIN:DAYLIGHT
TZOFFSETFROM:-0800
TZOFFSETTO:-0700
TZNAME:PDT
DTSTART:20250309T100000
END:DAYLIGHT
BEGIN:STANDARD
TZOFFSETFROM:-0700
TZOFFSETTO:-0800
TZNAME:PST
DTSTART:20251102T090000
END:STANDARD
BEGIN:DAYLIGHT
TZOFFSETFROM:-0800
TZOFFSETTO:-0700
TZNAME:PDT
DTSTART:20260308T100000
END:DAYLIGHT
BEGIN:STANDARD
TZOFFSETFROM:-0700
TZOFFSETTO:-0800
TZNAME:PST
DTSTART:20261101T090000
END:STANDARD
BEGIN:DAYLIGHT
TZOFFSETFROM:-0800
TZOFFSETTO:-0700
TZNAME:PDT
DTSTART:20270314T100000
END:DAYLIGHT
BEGIN:STANDARD
TZOFFSETFROM:-0700
TZOFFSETTO:-0800
TZNAME:PST
DTSTART:20271107T090000
END:STANDARD
END:VTIMEZONE
BEGIN:VEVENT
DTSTART;TZID=America/Los_Angeles:20260715T130000
DTEND;TZID=America/Los_Angeles:20260715T140000
DTSTAMP:20260425T082943
CREATED:20250826T193449Z
LAST-MODIFIED:20250826T193449Z
UID:4225-1784120400-1784124000@cdabasin.idaho.gov
SUMMARY:Shoshone Benewah One Call Meeting
DESCRIPTION:
URL:https://cdabasin.idaho.gov/event/shoshone-benewah-one-call-meeting-8/
LOCATION:City Limits Pub\, 108 Nine Mile Rd\, Wallace\, ID\, 83873\, United States
ORGANIZER;CN="Haley Gosline":MAILTO:hgosline@southforksd.com
END:VEVENT
BEGIN:VEVENT
DTSTART;VALUE=DATE:20260729
DTEND;VALUE=DATE:20260730
DTSTAMP:20260425T082943
CREATED:20251209T172017Z
LAST-MODIFIED:20251209T172017Z
UID:4439-1785283200-1785369599@cdabasin.idaho.gov
SUMMARY:BEIPC Quarterly Meeting and Tour
DESCRIPTION:
URL:https://cdabasin.idaho.gov/event/beipc-quarterly-meeting-and-tour-2/
ORGANIZER;CN="Sharon Bosley":MAILTO:sharon.bosley@deq.idaho.gov
END:VEVENT
END:VCALENDAR